BEGIN:VCALENDAR
VERSION:2.0
PRODID:-//Backcountry Wine Tasting Room - ECPv6.15.20//NONSGML v1.0//EN
CALSCALE:GREGORIAN
METHOD:PUBLISH
X-WR-CALNAME:Backcountry Wine Tasting Room
X-ORIGINAL-URL:https://backcountrywinebar.com
X-WR-CALDESC:Events for Backcountry Wine Tasting Room
REFRESH-INTERVAL;VALUE=DURATION:PT1H
X-Robots-Tag:noindex
X-PUBLISHED-TTL:PT1H
BEGIN:VTIMEZONE
TZID:America/Los_Angeles
BEGIN:DAYLIGHT
TZOFFSETFROM:-0800
TZOFFSETTO:-0700
TZNAME:PDT
DTSTART:20250309T100000
END:DAYLIGHT
BEGIN:STANDARD
TZOFFSETFROM:-0700
TZOFFSETTO:-0800
TZNAME:PST
DTSTART:20251102T090000
END:STANDARD
BEGIN:DAYLIGHT
TZOFFSETFROM:-0800
TZOFFSETTO:-0700
TZNAME:PDT
DTSTART:20260308T100000
END:DAYLIGHT
BEGIN:STANDARD
TZOFFSETFROM:-0700
TZOFFSETTO:-0800
TZNAME:PST
DTSTART:20261101T090000
END:STANDARD
BEGIN:DAYLIGHT
TZOFFSETFROM:-0800
TZOFFSETTO:-0700
TZNAME:PDT
DTSTART:20270314T100000
END:DAYLIGHT
BEGIN:STANDARD
TZOFFSETFROM:-0700
TZOFFSETTO:-0800
TZNAME:PST
DTSTART:20271107T090000
END:STANDARD
END:VTIMEZONE
BEGIN:VEVENT
DTSTART;TZID=America/Los_Angeles:20260331T000000
DTEND;TZID=America/Los_Angeles:20260331T235959
DTSTAMP:20260421T030426
CREATED:20260213T041000Z
LAST-MODIFIED:20260213T041002Z
UID:236155-1774915200-1775001599@backcountrywinebar.com
SUMMARY:Open Noon to 6pm
DESCRIPTION:We are open today from 12:00 to 6:00 pm. Come on in and enjoy a glass\, bottle\, or personalized flight of wine.\n🍷🍾
URL:https://backcountrywinebar.com/event/open-noon-to-6pm-45/
ATTACH;FMTTYPE=image/png:https://backcountrywinebar.com/wp-content/uploads/2025/07/We-are-open.png
END:VEVENT
BEGIN:VEVENT
DTSTART;TZID=America/Los_Angeles:20260401T000000
DTEND;TZID=America/Los_Angeles:20260401T235959
DTSTAMP:20260421T030426
CREATED:20260213T041020Z
LAST-MODIFIED:20260213T041022Z
UID:236154-1775001600-1775087999@backcountrywinebar.com
SUMMARY:Open Noon to 6pm
DESCRIPTION:We are open today from 12:00 to 6:00 pm. Come on in and enjoy a glass\, bottle\, or personalized flight of wine.\n🍷🍾
URL:https://backcountrywinebar.com/event/open-noon-to-6pm-46/
ATTACH;FMTTYPE=image/png:https://backcountrywinebar.com/wp-content/uploads/2025/07/We-are-open.png
END:VEVENT
BEGIN:VEVENT
DTSTART;TZID=America/Los_Angeles:20260402T000000
DTEND;TZID=America/Los_Angeles:20260402T235959
DTSTAMP:20260421T030426
CREATED:20260213T041049Z
LAST-MODIFIED:20260213T041051Z
UID:236153-1775088000-1775174399@backcountrywinebar.com
SUMMARY:Open Noon to 6pm
DESCRIPTION:We are open today from 12:00 to 6:00 pm. Come on in and enjoy a glass\, bottle\, or personalized flight of wine.\n🍷🍾
URL:https://backcountrywinebar.com/event/open-noon-to-6pm-47/
ATTACH;FMTTYPE=image/png:https://backcountrywinebar.com/wp-content/uploads/2025/07/We-are-open.png
END:VEVENT
BEGIN:VEVENT
DTSTART;TZID=America/Los_Angeles:20260403T000000
DTEND;TZID=America/Los_Angeles:20260403T235959
DTSTAMP:20260421T030426
CREATED:20260213T041612Z
LAST-MODIFIED:20260213T041614Z
UID:236167-1775174400-1775260799@backcountrywinebar.com
SUMMARY:Friday Night Flights 5-9pm
DESCRIPTION:FRIDAY NIGHT FLIGHTS 5-9pm\nClick the link to preview tonight’s line-up!\nTONIGHT’S FLIGHT ➡ 
URL:https://backcountrywinebar.com/event/friday-night-flights-5-9pm-12/
ATTACH;FMTTYPE=image/jpeg:https://backcountrywinebar.com/wp-content/uploads/2023/05/Backcountry_Wine-Bar_Wine-Showcase_Variation-1-2-scaled.jpg
END:VEVENT
BEGIN:VEVENT
DTSTART;TZID=America/Los_Angeles:20260404T000000
DTEND;TZID=America/Los_Angeles:20260404T235959
DTSTAMP:20260421T030426
CREATED:20260213T041732Z
LAST-MODIFIED:20260213T041733Z
UID:236169-1775260800-1775347199@backcountrywinebar.com
SUMMARY:Open Noon to 9pm
DESCRIPTION:We are open today from 12:00 to 9:00 pm. Come on in and enjoy a glass\, bottle\, or personalized flight of wine.\n🍷🍾
URL:https://backcountrywinebar.com/event/open-noon-to-9pm-7/
ATTACH;FMTTYPE=image/png:https://backcountrywinebar.com/wp-content/uploads/2025/07/We-are-open.png
END:VEVENT
BEGIN:VEVENT
DTSTART;TZID=America/Los_Angeles:20260405T000000
DTEND;TZID=America/Los_Angeles:20260405T235959
DTSTAMP:20260421T030426
CREATED:20260418T202103Z
LAST-MODIFIED:20260418T202105Z
UID:236269-1775347200-1775433599@backcountrywinebar.com
SUMMARY:Open Noon to 6pm
DESCRIPTION:We are open today from 12:00 to 6:00 pm. Come on in and enjoy a glass\, bottle\, or personalized flight of wine.\n🍷🍾
URL:https://backcountrywinebar.com/event/open-noon-to-6pm-2/
ATTACH;FMTTYPE=image/png:https://backcountrywinebar.com/wp-content/uploads/2025/07/We-are-open.png
END:VEVENT
BEGIN:VEVENT
DTSTART;TZID=America/Los_Angeles:20260406T000000
DTEND;TZID=America/Los_Angeles:20260406T235959
DTSTAMP:20260421T030426
CREATED:20260418T202354Z
LAST-MODIFIED:20260418T202355Z
UID:236278-1775433600-1775519999@backcountrywinebar.com
SUMMARY:Closed on Mondays
DESCRIPTION:We are closed on Mondays. Please join us during regular hours\, Tuesday through Sunday.
URL:https://backcountrywinebar.com/event/closed-on-mondays/
ATTACH;FMTTYPE=image/png:https://backcountrywinebar.com/wp-content/uploads/2025/07/Closed-on-Mondays.png
END:VEVENT
BEGIN:VEVENT
DTSTART;TZID=America/Los_Angeles:20260407T000000
DTEND;TZID=America/Los_Angeles:20260407T235959
DTSTAMP:20260421T030426
CREATED:20260418T202122Z
LAST-MODIFIED:20260418T202124Z
UID:236268-1775520000-1775606399@backcountrywinebar.com
SUMMARY:Open Noon to 6pm
DESCRIPTION:We are open today from 12:00 to 6:00 pm. Come on in and enjoy a glass\, bottle\, or personalized flight of wine.\n🍷🍾
URL:https://backcountrywinebar.com/event/open-noon-to-6pm-3/
ATTACH;FMTTYPE=image/png:https://backcountrywinebar.com/wp-content/uploads/2025/07/We-are-open.png
END:VEVENT
BEGIN:VEVENT
DTSTART;TZID=America/Los_Angeles:20260408T000000
DTEND;TZID=America/Los_Angeles:20260408T235959
DTSTAMP:20260421T030426
CREATED:20260418T202139Z
LAST-MODIFIED:20260418T202141Z
UID:236265-1775606400-1775692799@backcountrywinebar.com
SUMMARY:Open Noon to 6pm
DESCRIPTION:We are open today from 12:00 to 6:00 pm. Come on in and enjoy a glass\, bottle\, or personalized flight of wine.\n🍷🍾
URL:https://backcountrywinebar.com/event/open-noon-to-6pm-4/
ATTACH;FMTTYPE=image/png:https://backcountrywinebar.com/wp-content/uploads/2025/07/We-are-open.png
END:VEVENT
BEGIN:VEVENT
DTSTART;TZID=America/Los_Angeles:20260409T000000
DTEND;TZID=America/Los_Angeles:20260409T235959
DTSTAMP:20260421T030426
CREATED:20260418T202201Z
LAST-MODIFIED:20260418T202203Z
UID:236267-1775692800-1775779199@backcountrywinebar.com
SUMMARY:Open Noon to 6pm
DESCRIPTION:We are open today from 12:00 to 6:00 pm. Come on in and enjoy a glass\, bottle\, or personalized flight of wine.\n🍷🍾
URL:https://backcountrywinebar.com/event/open-noon-to-6pm-5/
ATTACH;FMTTYPE=image/png:https://backcountrywinebar.com/wp-content/uploads/2025/07/We-are-open.png
END:VEVENT
BEGIN:VEVENT
DTSTART;TZID=America/Los_Angeles:20260410T000000
DTEND;TZID=America/Los_Angeles:20260410T235959
DTSTAMP:20260421T030426
CREATED:20260418T203140Z
LAST-MODIFIED:20260418T203142Z
UID:236298-1775779200-1775865599@backcountrywinebar.com
SUMMARY:Friday Night Flights 5-9pm
DESCRIPTION:FRIDAY NIGHT FLIGHTS 5-9pm\n 
URL:https://backcountrywinebar.com/event/friday-night-flights-5-9pm-2/
ATTACH;FMTTYPE=image/jpeg:https://backcountrywinebar.com/wp-content/uploads/2023/05/Backcountry_Wine-Bar_Wine-Showcase_Variation-1-2-scaled.jpg
END:VEVENT
BEGIN:VEVENT
DTSTART;TZID=America/Los_Angeles:20260411T000000
DTEND;TZID=America/Los_Angeles:20260411T235959
DTSTAMP:20260421T030426
CREATED:20260418T202251Z
LAST-MODIFIED:20260418T202253Z
UID:236276-1775865600-1775951999@backcountrywinebar.com
SUMMARY:Open Noon to 9pm
DESCRIPTION:We are open today from 12:00 to 9:00 pm. Come on in and enjoy a glass\, bottle\, or personalized flight of wine.\n🍷🍾
URL:https://backcountrywinebar.com/event/open-noon-to-9pm/
ATTACH;FMTTYPE=image/png:https://backcountrywinebar.com/wp-content/uploads/2025/07/We-are-open.png
END:VEVENT
BEGIN:VEVENT
DTSTART;TZID=America/Los_Angeles:20260412T000000
DTEND;TZID=America/Los_Angeles:20260412T235959
DTSTAMP:20260421T030426
CREATED:20260418T202512Z
LAST-MODIFIED:20260418T202514Z
UID:236264-1775952000-1776038399@backcountrywinebar.com
SUMMARY:Open Noon to 6pm
DESCRIPTION:We are open today from 12:00 to 6:00 pm. Come on in and enjoy a glass\, bottle\, or personalized flight of wine.\n🍷🍾
URL:https://backcountrywinebar.com/event/open-noon-to-6pm-6/
ATTACH;FMTTYPE=image/png:https://backcountrywinebar.com/wp-content/uploads/2025/07/We-are-open.png
END:VEVENT
BEGIN:VEVENT
DTSTART;TZID=America/Los_Angeles:20260413T000000
DTEND;TZID=America/Los_Angeles:20260413T235959
DTSTAMP:20260421T030426
CREATED:20260418T202415Z
LAST-MODIFIED:20260418T202416Z
UID:236279-1776038400-1776124799@backcountrywinebar.com
SUMMARY:Closed on Mondays
DESCRIPTION:We are closed on Mondays. Please join us during regular hours\, Tuesday through Sunday.
URL:https://backcountrywinebar.com/event/closed-on-mondays-2/
ATTACH;FMTTYPE=image/png:https://backcountrywinebar.com/wp-content/uploads/2025/07/Closed-on-Mondays.png
END:VEVENT
BEGIN:VEVENT
DTSTART;TZID=America/Los_Angeles:20260414T000000
DTEND;TZID=America/Los_Angeles:20260414T235959
DTSTAMP:20260421T030426
CREATED:20260418T202625Z
LAST-MODIFIED:20260418T202627Z
UID:236290-1776124800-1776211199@backcountrywinebar.com
SUMMARY:Open Noon to 6pm
DESCRIPTION:We are open today from 12:00 to 6:00 pm. Come on in and enjoy a glass\, bottle\, or personalized flight of wine.\n🍷🍾
URL:https://backcountrywinebar.com/event/open-noon-to-6pm-7/
ATTACH;FMTTYPE=image/png:https://backcountrywinebar.com/wp-content/uploads/2025/07/We-are-open.png
END:VEVENT
BEGIN:VEVENT
DTSTART;TZID=America/Los_Angeles:20260415T000000
DTEND;TZID=America/Los_Angeles:20260415T235959
DTSTAMP:20260421T030426
CREATED:20260418T202645Z
LAST-MODIFIED:20260418T202647Z
UID:236289-1776211200-1776297599@backcountrywinebar.com
SUMMARY:Open Noon to 6pm
DESCRIPTION:We are open today from 12:00 to 6:00 pm. Come on in and enjoy a glass\, bottle\, or personalized flight of wine.\n🍷🍾
URL:https://backcountrywinebar.com/event/open-noon-to-6pm-8/
ATTACH;FMTTYPE=image/png:https://backcountrywinebar.com/wp-content/uploads/2025/07/We-are-open.png
END:VEVENT
BEGIN:VEVENT
DTSTART;TZID=America/Los_Angeles:20260416T000000
DTEND;TZID=America/Los_Angeles:20260416T235959
DTSTAMP:20260421T030426
CREATED:20260418T202705Z
LAST-MODIFIED:20260418T202706Z
UID:236288-1776297600-1776383999@backcountrywinebar.com
SUMMARY:Open Noon to 6pm
DESCRIPTION:We are open today from 12:00 to 6:00 pm. Come on in and enjoy a glass\, bottle\, or personalized flight of wine.\n🍷🍾
URL:https://backcountrywinebar.com/event/open-noon-to-6pm-9/
ATTACH;FMTTYPE=image/png:https://backcountrywinebar.com/wp-content/uploads/2025/07/We-are-open.png
END:VEVENT
BEGIN:VEVENT
DTSTART;TZID=America/Los_Angeles:20260417T000000
DTEND;TZID=America/Los_Angeles:20260417T235959
DTSTAMP:20260421T030426
CREATED:20260418T203010Z
LAST-MODIFIED:20260418T203012Z
UID:236299-1776384000-1776470399@backcountrywinebar.com
SUMMARY:Friday Night Flights 5-9pm
DESCRIPTION:FRIDAY NIGHT FLIGHTS 5-9pm\nClick the link to preview tonight’s line-up!\nTONIGHT’S FLIGHT ➡ 
URL:https://backcountrywinebar.com/event/friday-night-flights-5-9pm/
ATTACH;FMTTYPE=image/jpeg:https://backcountrywinebar.com/wp-content/uploads/2023/05/Backcountry_Wine-Bar_Wine-Showcase_Variation-1-2-scaled.jpg
END:VEVENT
BEGIN:VEVENT
DTSTART;TZID=America/Los_Angeles:20260418T000000
DTEND;TZID=America/Los_Angeles:20260418T235959
DTSTAMP:20260421T030426
CREATED:20260315T185921Z
LAST-MODIFIED:20260418T201847Z
UID:236236-1776470400-1776556799@backcountrywinebar.com
SUMMARY:Closed All Day for a Private Event
DESCRIPTION:
URL:https://backcountrywinebar.com/event/closing-early-for-a-private-event-2/
ATTACH;FMTTYPE=image/png:https://backcountrywinebar.com/wp-content/uploads/2024/03/Closed-All-Day.png
END:VEVENT
BEGIN:VEVENT
DTSTART;TZID=America/Los_Angeles:20260419T000000
DTEND;TZID=America/Los_Angeles:20260419T235959
DTSTAMP:20260421T030426
CREATED:20260418T202026Z
LAST-MODIFIED:20260418T202028Z
UID:236270-1776556800-1776643199@backcountrywinebar.com
SUMMARY:Open Noon to 6pm
DESCRIPTION:We are open today from 12:00 to 6:00 pm. Come on in and enjoy a glass\, bottle\, or personalized flight of wine.\n🍷🍾
URL:https://backcountrywinebar.com/event/open-noon-to-6pm/
ATTACH;FMTTYPE=image/png:https://backcountrywinebar.com/wp-content/uploads/2025/07/We-are-open.png
END:VEVENT
BEGIN:VEVENT
DTSTART;TZID=America/Los_Angeles:20260420T000000
DTEND;TZID=America/Los_Angeles:20260420T235959
DTSTAMP:20260421T030426
CREATED:20260418T202441Z
LAST-MODIFIED:20260418T202443Z
UID:236280-1776643200-1776729599@backcountrywinebar.com
SUMMARY:Closed on Mondays
DESCRIPTION:We are closed on Mondays. Please join us during regular hours\, Tuesday through Sunday.
URL:https://backcountrywinebar.com/event/closed-on-mondays-3/
ATTACH;FMTTYPE=image/png:https://backcountrywinebar.com/wp-content/uploads/2025/07/Closed-on-Mondays.png
END:VEVENT
BEGIN:VEVENT
DTSTART;TZID=America/Los_Angeles:20260421T000000
DTEND;TZID=America/Los_Angeles:20260421T235959
DTSTAMP:20260421T030426
CREATED:20260418T202735Z
LAST-MODIFIED:20260418T202736Z
UID:236287-1776729600-1776815999@backcountrywinebar.com
SUMMARY:Open Noon to 6pm
DESCRIPTION:We are open today from 12:00 to 6:00 pm. Come on in and enjoy a glass\, bottle\, or personalized flight of wine.\n🍷🍾
URL:https://backcountrywinebar.com/event/open-noon-to-6pm-10/
ATTACH;FMTTYPE=image/png:https://backcountrywinebar.com/wp-content/uploads/2025/07/We-are-open.png
END:VEVENT
BEGIN:VEVENT
DTSTART;TZID=America/Los_Angeles:20260422T000000
DTEND;TZID=America/Los_Angeles:20260422T235959
DTSTAMP:20260421T030426
CREATED:20260418T202811Z
LAST-MODIFIED:20260418T202813Z
UID:236286-1776816000-1776902399@backcountrywinebar.com
SUMMARY:Open Noon to 6pm
DESCRIPTION:We are open today from 12:00 to 6:00 pm. Come on in and enjoy a glass\, bottle\, or personalized flight of wine.\n🍷🍾
URL:https://backcountrywinebar.com/event/open-noon-to-6pm-11/
ATTACH;FMTTYPE=image/png:https://backcountrywinebar.com/wp-content/uploads/2025/07/We-are-open.png
END:VEVENT
BEGIN:VEVENT
DTSTART;TZID=America/Los_Angeles:20260423T000000
DTEND;TZID=America/Los_Angeles:20260423T235959
DTSTAMP:20260421T030426
CREATED:20260418T202841Z
LAST-MODIFIED:20260418T202843Z
UID:236285-1776902400-1776988799@backcountrywinebar.com
SUMMARY:Open Noon to 6pm
DESCRIPTION:We are open today from 12:00 to 6:00 pm. Come on in and enjoy a glass\, bottle\, or personalized flight of wine.\n🍷🍾
URL:https://backcountrywinebar.com/event/open-noon-to-6pm-12/
ATTACH;FMTTYPE=image/png:https://backcountrywinebar.com/wp-content/uploads/2025/07/We-are-open.png
END:VEVENT
BEGIN:VEVENT
DTSTART;TZID=America/Los_Angeles:20260424T000000
DTEND;TZID=America/Los_Angeles:20260424T235959
DTSTAMP:20260421T030426
CREATED:20260213T041421Z
LAST-MODIFIED:20260418T203054Z
UID:236163-1776988800-1777075199@backcountrywinebar.com
SUMMARY:Friday Night Flights 5-9pm
DESCRIPTION:FRIDAY NIGHT FLIGHTS 5-9pm\n 
URL:https://backcountrywinebar.com/event/friday-night-flights-5-9pm-8/
ATTACH;FMTTYPE=image/jpeg:https://backcountrywinebar.com/wp-content/uploads/2023/05/Backcountry_Wine-Bar_Wine-Showcase_Variation-1-2-scaled.jpg
END:VEVENT
BEGIN:VEVENT
DTSTART;TZID=America/Los_Angeles:20260425T000000
DTEND;TZID=America/Los_Angeles:20260425T235959
DTSTAMP:20260421T030426
CREATED:20260418T203325Z
LAST-MODIFIED:20260418T203327Z
UID:236304-1777075200-1777161599@backcountrywinebar.com
SUMMARY:Closed All Day for a Private Event
DESCRIPTION:
URL:https://backcountrywinebar.com/event/closed-all-day-for-a-private-event/
ATTACH;FMTTYPE=image/png:https://backcountrywinebar.com/wp-content/uploads/2024/03/Closed-All-Day.png
END:VEVENT
BEGIN:VEVENT
DTSTART;TZID=America/Los_Angeles:20260426T000000
DTEND;TZID=America/Los_Angeles:20260426T235959
DTSTAMP:20260421T030426
CREATED:20260418T203511Z
LAST-MODIFIED:20260418T203512Z
UID:236310-1777161600-1777247999@backcountrywinebar.com
SUMMARY:Open Noon to 6pm
DESCRIPTION:We are open today from 12:00 to 6:00 pm. Come on in and enjoy a glass\, bottle\, or personalized flight of wine.\n🍷🍾
URL:https://backcountrywinebar.com/event/open-noon-to-6pm-13/
ATTACH;FMTTYPE=image/png:https://backcountrywinebar.com/wp-content/uploads/2025/07/We-are-open.png
END:VEVENT
BEGIN:VEVENT
DTSTART;TZID=America/Los_Angeles:20260427T000000
DTEND;TZID=America/Los_Angeles:20260427T235959
DTSTAMP:20260421T030426
CREATED:20260418T203731Z
LAST-MODIFIED:20260418T203733Z
UID:236316-1777248000-1777334399@backcountrywinebar.com
SUMMARY:Closed on Mondays
DESCRIPTION:We are closed on Mondays. Please join us during regular hours\, Tuesday through Sunday.
URL:https://backcountrywinebar.com/event/closed-on-mondays-4/
ATTACH;FMTTYPE=image/png:https://backcountrywinebar.com/wp-content/uploads/2025/07/Closed-on-Mondays.png
END:VEVENT
BEGIN:VEVENT
DTSTART;TZID=America/Los_Angeles:20260428T000000
DTEND;TZID=America/Los_Angeles:20260428T235959
DTSTAMP:20260421T030426
CREATED:20260418T203531Z
LAST-MODIFIED:20260418T203533Z
UID:236309-1777334400-1777420799@backcountrywinebar.com
SUMMARY:Open Noon to 6pm
DESCRIPTION:We are open today from 12:00 to 6:00 pm. Come on in and enjoy a glass\, bottle\, or personalized flight of wine.\n🍷🍾
URL:https://backcountrywinebar.com/event/open-noon-to-6pm-14/
ATTACH;FMTTYPE=image/png:https://backcountrywinebar.com/wp-content/uploads/2025/07/We-are-open.png
END:VEVENT
BEGIN:VEVENT
DTSTART;TZID=America/Los_Angeles:20260429T000000
DTEND;TZID=America/Los_Angeles:20260429T235959
DTSTAMP:20260421T030426
CREATED:20260418T203602Z
LAST-MODIFIED:20260418T203603Z
UID:236308-1777420800-1777507199@backcountrywinebar.com
SUMMARY:Open Noon to 6pm
DESCRIPTION:We are open today from 12:00 to 6:00 pm. Come on in and enjoy a glass\, bottle\, or personalized flight of wine.\n🍷🍾
URL:https://backcountrywinebar.com/event/open-noon-to-6pm-15/
ATTACH;FMTTYPE=image/png:https://backcountrywinebar.com/wp-content/uploads/2025/07/We-are-open.png
END:VEVENT
END:VCALENDAR